BEGIN:VCALENDAR
VERSION:2.0
PRODID:-//wp-events-plugin.com//6.6.3//EN
TZID:Europe/Rome
X-WR-TIMEZONE:Europe/Rome
BEGIN:VEVENT
UID:0-78@parrocchielagocaldonazzo.diocesitn.it
DTSTART;TZID=Europe/Rome:20190605T203000
DTEND;TZID=Europe/Rome:20190605T220000
DTSTAMP:20190521T165514Z
URL:https://parrocchielagocaldonazzo.diocesitn.it/events/spettacolo-di-ben
 eficienza-in-teatro/
SUMMARY:Spettacolo di beneficienza nel teatro parrocchiale
DESCRIPTION:Spettacolo di danza e musica ad offerta libera - il ricavato ve
 rrà interamente devoluto a COMETA A.S.M.M.E. Onlus Ass. Studio Malattie M
 etaboliche Ereditarie
ATTACH;FMTTYPE=image/jpeg:https://parrocchielagocaldonazzo.diocesitn.it/wp
 -content/uploads/sites/77/2019/05/Spettacolo-di-beneficienza-e155845750141
 8.jpg
CATEGORIES:Spettacolo
LOCATION:oratorio Tenna\, Via Albere\, Tenna\, Italia/Trento\, 38050\, Ital
 ia
GEO:46.0170386;11.265110400000026
X-APPLE-STRUCTURED-LOCATION;VALUE=URI;X-ADDRESS=Via Albere\, Tenna\, Italia
 /Trento\, 38050\, Italia;X-APPLE-RADIUS=100;X-TITLE=oratorio Tenna:geo:46.
 0170386,11.265110400000026
END:VEVENT
BEGIN:VTIMEZONE
TZID:Europe/Rome
X-LIC-LOCATION:Europe/Rome
BEGIN:DAYLIGHT
DTSTART:20190331T030000
TZOFFSETFROM:+0100
TZOFFSETTO:+0200
TZNAME:CEST
END:DAYLIGHT
END:VTIMEZONE
END:VCALENDAR