BEGIN:VCALENDAR
VERSION:2.0
PRODID:-//wp-events-plugin.com//6.6.3//EN
TZID:Europe/Rome
X-WR-TIMEZONE:Europe/Rome
BEGIN:VEVENT
UID:0-90@parrocchielagocaldonazzo.diocesitn.it
DTSTART;TZID=Europe/Rome:20190721T103000
DTEND;TZID=Europe/Rome:20190721T111500
DTSTAMP:20190713T183445Z
URL:https://parrocchielagocaldonazzo.diocesitn.it/events/s-messa-in-albere
 -a-seguire-pranzo-alpino/
SUMMARY:S.Messa in Alberé - a seguire pranzo alpino
DESCRIPTION:
CATEGORIES:Celebrazione
LOCATION:Baita Alpini Albere\, Albere\, Tenna\, Italia/Trento\, 38050\, Ita
 lia
X-APPLE-STRUCTURED-LOCATION;VALUE=URI;X-ADDRESS=Albere\, Tenna\, Italia/Tre
 nto\, 38050\, Italia;X-APPLE-RADIUS=100;X-TITLE=Baita Alpini Albere:geo:0,
 0
END:VEVENT
BEGIN:VTIMEZONE
TZID:Europe/Rome
X-LIC-LOCATION:Europe/Rome
BEGIN:DAYLIGHT
DTSTART:20190331T030000
TZOFFSETFROM:+0100
TZOFFSETTO:+0200
TZNAME:CEST
END:DAYLIGHT
END:VTIMEZONE
END:VCALENDAR