BEGIN:VCALENDAR
VERSION:2.0
PRODID:-//wp-events-plugin.com//6.6.3//EN
TZID:Europe/Rome
X-WR-TIMEZONE:Europe/Rome
BEGIN:VEVENT
UID:0-74@parrocchielagocaldonazzo.diocesitn.it
DTSTART;TZID=Europe/Rome:20190530T193000
DTEND;TZID=Europe/Rome:20190530T200000
DTSTAMP:20190427T183810Z
URL:https://parrocchielagocaldonazzo.diocesitn.it/events/recita-s-rosario-
 5/
SUMMARY:Recita S.Rosario
DESCRIPTION:
CATEGORIES:Celebrazione
LOCATION:Oratorio Calceranica\, Via don E. Angeli\, Calceranica\, Italia
X-APPLE-STRUCTURED-LOCATION;VALUE=URI;X-ADDRESS=Via don E. Angeli\, Calcera
 nica\, Italia;X-APPLE-RADIUS=100;X-TITLE=Oratorio Calceranica:geo:0,0
END:VEVENT
BEGIN:VTIMEZONE
TZID:Europe/Rome
X-LIC-LOCATION:Europe/Rome
BEGIN:DAYLIGHT
DTSTART:20190331T030000
TZOFFSETFROM:+0100
TZOFFSETTO:+0200
TZNAME:CEST
END:DAYLIGHT
END:VTIMEZONE
END:VCALENDAR