BEGIN:VCALENDAR
VERSION:2.0
PRODID:-//wp-events-plugin.com//6.6.3//EN
TZID:Europe/Rome
X-WR-TIMEZONE:Europe/Rome
BEGIN:VEVENT
UID:0-87@parrocchielagocaldonazzo.diocesitn.it
DTSTART;TZID=Europe/Rome:20190622T190000
DTEND;TZID=Europe/Rome:20190622T203000
DTSTAMP:20190618T090426Z
URL:https://parrocchielagocaldonazzo.diocesitn.it/events/processione-del-c
 orpus-domini/
SUMMARY:Processione del Corpus Domini
DESCRIPTION:La S.Messa della sera sarà anticipata alle ore 19.00 e seguita
  dalla Processione del Corpus Domini con le soste de benedizione agli alta
 ri lungo il percorso e la conclusione sul sagrato della Chiesa.
CATEGORIES:Celebrazione
LOCATION:Chiesa Caldonazzo\, Piazza Chiesa\, Caldonazzo\, 38052\, Italia
GEO:45.9898833;11.264039400000001
X-APPLE-STRUCTURED-LOCATION;VALUE=URI;X-ADDRESS=Piazza Chiesa\, Caldonazzo\
 , 38052\, Italia;X-APPLE-RADIUS=100;X-TITLE=Chiesa Caldonazzo:geo:45.98988
 33,11.264039400000001
END:VEVENT
BEGIN:VTIMEZONE
TZID:Europe/Rome
X-LIC-LOCATION:Europe/Rome
BEGIN:DAYLIGHT
DTSTART:20190331T030000
TZOFFSETFROM:+0100
TZOFFSETTO:+0200
TZNAME:CEST
END:DAYLIGHT
END:VTIMEZONE
END:VCALENDAR