BEGIN:VCALENDAR
VERSION:2.0
PRODID:-//wp-events-plugin.com//6.6.3//EN
TZID:Europe/Rome
X-WR-TIMEZONE:Europe/Rome
BEGIN:VEVENT
UID:0-53@parrocchielagocaldonazzo.diocesitn.it
DTSTART;TZID=Europe/Rome:20190414T140000
DTEND;TZID=Europe/Rome:20190414T150000
DTSTAMP:20190413T102534Z
URL:https://parrocchielagocaldonazzo.diocesitn.it/events/ora-di-adorazione
 /
SUMMARY:Ora di Adorazione
DESCRIPTION:
CATEGORIES:Celebrazione
LOCATION:Chiesa Calceranica\, P.zza Graziadei\, Calceranica\, Italia
GEO:46.0041777;11.241518100000008
X-APPLE-STRUCTURED-LOCATION;VALUE=URI;X-ADDRESS=P.zza Graziadei\, Calcerani
 ca\, Italia;X-APPLE-RADIUS=100;X-TITLE=Chiesa Calceranica:geo:46.0041777,1
 1.241518100000008
END:VEVENT
BEGIN:VTIMEZONE
TZID:Europe/Rome
X-LIC-LOCATION:Europe/Rome
BEGIN:DAYLIGHT
DTSTART:20190331T030000
TZOFFSETFROM:+0100
TZOFFSETTO:+0200
TZNAME:CEST
END:DAYLIGHT
END:VTIMEZONE
END:VCALENDAR