BEGIN:VCALENDAR
VERSION:2.0
PRODID:-//wp-events-plugin.com//6.6.3//EN
TZID:Europe/Rome
X-WR-TIMEZONE:Europe/Rome
BEGIN:VEVENT
UID:0-36@parrocchielagocaldonazzo.diocesitn.it
DTSTART;TZID=Europe/Rome:20190402T200000
DTEND;TZID=Europe/Rome:20190402T210000
DTSTAMP:20190311T211011Z
URL:https://parrocchielagocaldonazzo.diocesitn.it/events/incontro-sulla-tu
 a-parola-4/
SUMMARY:Incontro "Sulla Tua Parola"
DESCRIPTION:
CATEGORIES:Incontro
LOCATION:canonica Tenna\, Piazza Municipio\, Tenna\, TN\, 38050\, Trentino 
 Alto-Adig\, Italia
GEO:46.0224573;11.365826500000025
X-APPLE-STRUCTURED-LOCATION;VALUE=URI;X-ADDRESS=Piazza Municipio\, Tenna\, 
 TN\, 38050\, Trentino Alto-Adig\, Italia;X-APPLE-RADIUS=100;X-TITLE=canoni
 ca Tenna:geo:46.0224573,11.365826500000025
END:VEVENT
BEGIN:VTIMEZONE
TZID:Europe/Rome
X-LIC-LOCATION:Europe/Rome
BEGIN:DAYLIGHT
DTSTART:20190331T030000
TZOFFSETFROM:+0100
TZOFFSETTO:+0200
TZNAME:CEST
END:DAYLIGHT
END:VTIMEZONE
END:VCALENDAR