BEGIN:VCALENDAR
VERSION:2.0
PRODID:-//wp-events-plugin.com//6.6.3//EN
TZID:Europe/Rome
X-WR-TIMEZONE:Europe/Rome
BEGIN:VEVENT
UID:77-17@parrocchielagocaldonazzo.diocesitn.it
DTSTART;TZID=Europe/Rome:20190404T203000
DTEND;TZID=Europe/Rome:20190404T213000
DTSTAMP:20190311T185630Z
URL:https://parrocchielagocaldonazzo.diocesitn.it/events/incontro-sulla-tu
 a-parola-2019-04-04/
SUMMARY:Incontro "Sulla Tua Parola
DESCRIPTION:
CATEGORIES:Incontro
LOCATION:Calceranica -sala parrocchiale-\, P.zza Graziadei\, Calceranica\, 
 Italia
GEO:46.0041777;11.241518100000008
X-APPLE-STRUCTURED-LOCATION;VALUE=URI;X-ADDRESS=P.zza Graziadei\, Calcerani
 ca\, Italia;X-APPLE-RADIUS=100;X-TITLE=Calceranica -sala parrocchiale-:geo
 :46.0041777,11.241518100000008
END:VEVENT
BEGIN:VTIMEZONE
TZID:Europe/Rome
X-LIC-LOCATION:Europe/Rome
BEGIN:DAYLIGHT
DTSTART:20190331T030000
TZOFFSETFROM:+0100
TZOFFSETTO:+0200
TZNAME:CEST
END:DAYLIGHT
END:VTIMEZONE
END:VCALENDAR