BEGIN:VCALENDAR
VERSION:2.0
PRODID:-//wp-events-plugin.com//6.6.3//EN
TZID:Europe/Rome
X-WR-TIMEZONE:Europe/Rome
BEGIN:VEVENT
UID:0-91@parrocchielagocaldonazzo.diocesitn.it
DTSTART;TZID=Europe/Rome:20190718T100000
DTEND;TZID=Europe/Rome:20190718T170000
DTSTAMP:20190714T133853Z
URL:https://parrocchielagocaldonazzo.diocesitn.it/events/grest-forte-col-d
 ele-bebe/
SUMMARY:GREST- Forte col dele Bebe
DESCRIPTION:
CATEGORIES:Attività oratorio
LOCATION:Oratorio Caldonazzo\, Via Monte Rive\, 3\, Caldonazzo\, Italia
X-APPLE-STRUCTURED-LOCATION;VALUE=URI;X-ADDRESS=Via Monte Rive\, 3\, Caldon
 azzo\, Italia;X-APPLE-RADIUS=100;X-TITLE=Oratorio Caldonazzo:geo:0,0
END:VEVENT
BEGIN:VTIMEZONE
TZID:Europe/Rome
X-LIC-LOCATION:Europe/Rome
BEGIN:DAYLIGHT
DTSTART:20190331T030000
TZOFFSETFROM:+0100
TZOFFSETTO:+0200
TZNAME:CEST
END:DAYLIGHT
END:VTIMEZONE
END:VCALENDAR