BEGIN:VCALENDAR
VERSION:2.0
PRODID:-//wp-events-plugin.com//6.6.3//EN
TZID:Europe/Rome
X-WR-TIMEZONE:Europe/Rome
BEGIN:VEVENT
UID:0-89@parrocchielagocaldonazzo.diocesitn.it
DTSTART;TZID=Europe/Rome:20190704T100000
DTEND;TZID=Europe/Rome:20190704T170000
DTSTAMP:20190702T152545Z
URL:https://parrocchielagocaldonazzo.diocesitn.it/events/grest-al-lago/
SUMMARY:GREST AL LAGO
DESCRIPTION:
CATEGORIES:Attività oratorio
LOCATION:Oratorio Caldonazzo\, Via Monte Rive\, 3\, Caldonazzo\, Italia
GEO:45.99137169999999;11.26129519999995
X-APPLE-STRUCTURED-LOCATION;VALUE=URI;X-ADDRESS=Via Monte Rive\, 3\, Caldon
 azzo\, Italia;X-APPLE-RADIUS=100;X-TITLE=Oratorio Caldonazzo:geo:45.991371
 69999999,11.26129519999995
END:VEVENT
BEGIN:VTIMEZONE
TZID:Europe/Rome
X-LIC-LOCATION:Europe/Rome
BEGIN:DAYLIGHT
DTSTART:20190331T030000
TZOFFSETFROM:+0100
TZOFFSETTO:+0200
TZNAME:CEST
END:DAYLIGHT
END:VTIMEZONE
END:VCALENDAR