BEGIN:VCALENDAR
VERSION:2.0
PRODID:-//wp-events-plugin.com//6.6.3//EN
TZID:Europe/Rome
X-WR-TIMEZONE:Europe/Rome
BEGIN:VEVENT
UID:0-44@parrocchielagocaldonazzo.diocesitn.it
DTSTART;TZID=Europe/Rome:20190406T140000
DTEND;TZID=Europe/Rome:20190406T150000
DTSTAMP:20190404T180820Z
URL:https://parrocchielagocaldonazzo.diocesitn.it/events/confessioni-indiv
 iduali/
SUMMARY:Con le Mani in Pasta
DESCRIPTION:
CATEGORIES:Celebrazione
LOCATION:Oratorio Tenna\, Via Albere\, Tenna\, Italia/Trento\, 38050\, Tren
 tino Alto Adige\, Italia
GEO:46.017039;11.26511
X-APPLE-STRUCTURED-LOCATION;VALUE=URI;X-ADDRESS=Via Albere\, Tenna\, Italia
 /Trento\, 38050\, Trentino Alto Adige\, Italia;X-APPLE-RADIUS=100;X-TITLE=
 Oratorio Tenna:geo:46.017039,11.26511
END:VEVENT
BEGIN:VTIMEZONE
TZID:Europe/Rome
X-LIC-LOCATION:Europe/Rome
BEGIN:DAYLIGHT
DTSTART:20190331T030000
TZOFFSETFROM:+0100
TZOFFSETTO:+0200
TZNAME:CEST
END:DAYLIGHT
END:VTIMEZONE
END:VCALENDAR