BEGIN:VCALENDAR
VERSION:2.0
PRODID:-//wp-events-plugin.com//6.6.3//EN
TZID:Europe/Rome
X-WR-TIMEZONE:Europe/Rome
BEGIN:VEVENT
UID:0-37@parrocchielagocaldonazzo.diocesitn.it
DTSTART;TZID=Europe/Rome:20190406T143000
DTEND;TZID=Europe/Rome:20190406T173000
DTSTAMP:20190318T174228Z
URL:https://parrocchielagocaldonazzo.diocesitn.it/events/con-le-mani-in-pa
 sta/
SUMMARY:Con le mani in pasta
DESCRIPTION:
CATEGORIES:Raccolta viveri
LOCATION:oratorio Tenna\, Via Albere\, Tenna\, Italia/Trento\, 38050\, Ital
 ia
GEO:46.0170386;11.265110400000026
X-APPLE-STRUCTURED-LOCATION;VALUE=URI;X-ADDRESS=Via Albere\, Tenna\, Italia
 /Trento\, 38050\, Italia;X-APPLE-RADIUS=100;X-TITLE=oratorio Tenna:geo:46.
 0170386,11.265110400000026
END:VEVENT
BEGIN:VTIMEZONE
TZID:Europe/Rome
X-LIC-LOCATION:Europe/Rome
BEGIN:DAYLIGHT
DTSTART:20190331T030000
TZOFFSETFROM:+0100
TZOFFSETTO:+0200
TZNAME:CEST
END:DAYLIGHT
END:VTIMEZONE
END:VCALENDAR